BEGIN:VCALENDAR
VERSION:2.0
PRODID:-//The Shrine of The Virgin of Revelation &quot;Mother of the Church&quot; Bullsbrook - ECPv6.15.20//NONSGML v1.0//EN
CALSCALE:GREGORIAN
METHOD:PUBLISH
X-WR-CALNAME:The Shrine of The Virgin of Revelation &quot;Mother of the Church&quot; Bullsbrook
X-ORIGINAL-URL:https://virginofrevelationaustralia.com
X-WR-CALDESC:Events for The Shrine of The Virgin of Revelation &quot;Mother of the Church&quot; Bullsbrook
REFRESH-INTERVAL;VALUE=DURATION:PT1H
X-Robots-Tag:noindex
X-PUBLISHED-TTL:PT1H
BEGIN:VTIMEZONE
TZID:Asia/Shanghai
BEGIN:STANDARD
TZOFFSETFROM:+0800
TZOFFSETTO:+0800
TZNAME:CST
DTSTART:20240101T000000
END:STANDARD
END:VTIMEZONE
BEGIN:VEVENT
DTSTART;TZID=Asia/Shanghai:20250817T140000
DTEND;TZID=Asia/Shanghai:20250817T160000
DTSTAMP:20260423T060346
CREATED:20230221T014239Z
LAST-MODIFIED:20250813T122151Z
UID:38477-1755439200-1755446400@virginofrevelationaustralia.com
SUMMARY:Feast of the Assumption
DESCRIPTION:Stations of the Cross Good Friday – 2026				\n				\n				\n				\n					\n	\n				\n				\n				\n				\n									STATIONS OF THE CROSS GOOD FRIDAY 11.00am Friday 3rd April All are welcome. The Shrine of Our Lady of Revelation is a Marian Pilgrim Shrine\, it is not a parish Church. No service on Holy Thursday\, Easter Saturday.								\n				\n				\n				\n					EVERYMAN'S WAY OF THE CROSS
URL:https://virginofrevelationaustralia.com/event/feast-of-the-assumption/
LOCATION:Bullsbrook Shrine\, 36 Chittering Rd\, Bullsbrook\, WA\, 6084\, Australia
CATEGORIES:Shrine Calendar
ATTACH;FMTTYPE=image/webp:https://virginofrevelationaustralia.com/wp-content/uploads/2023/02/302910rgsdl-scaled.webp
ORGANIZER;CN="SACRI Australia":MAILTO:email@example.com
END:VEVENT
BEGIN:VEVENT
DTSTART;TZID=Asia/Shanghai:20250615T140000
DTEND;TZID=Asia/Shanghai:20250615T163000
DTSTAMP:20260423T060346
CREATED:20230221T014213Z
LAST-MODIFIED:20250801T125157Z
UID:38476-1749996000-1750005000@virginofrevelationaustralia.com
SUMMARY:Feast of the Most Holy Trinity
DESCRIPTION:Stations of the Cross Good Friday – 2026				\n				\n				\n				\n					\n	\n				\n				\n				\n				\n									STATIONS OF THE CROSS GOOD FRIDAY 11.00am Friday 3rd April All are welcome. The Shrine of Our Lady of Revelation is a Marian Pilgrim Shrine\, it is not a parish Church. No service on Holy Thursday\, Easter Saturday.								\n				\n				\n				\n					EVERYMAN'S WAY OF THE CROSS
URL:https://virginofrevelationaustralia.com/event/feast-of-the-most-holy-trinity/
LOCATION:Bullsbrook Shrine\, 36 Chittering Rd\, Bullsbrook\, WA\, 6084\, Australia
CATEGORIES:Shrine Calendar
ATTACH;FMTTYPE=image/jpeg:https://virginofrevelationaustralia.com/wp-content/uploads/2023/02/hiabkjbsmnd-scaled.jpg
ORGANIZER;CN="SACRI Australia":MAILTO:email@example.com
END:VEVENT
BEGIN:VEVENT
DTSTART;TZID=Asia/Shanghai:20250413T140000
DTEND;TZID=Asia/Shanghai:20250413T163000
DTSTAMP:20260423T060346
CREATED:20240614T131739Z
LAST-MODIFIED:20250801T125222Z
UID:39778-1744552800-1744561800@virginofrevelationaustralia.com
SUMMARY:Anniversary of the Apparition to Bruno Cornacchiola
DESCRIPTION:Stations of the Cross Good Friday – 2026				\n				\n				\n				\n					\n	\n				\n				\n				\n				\n									STATIONS OF THE CROSS GOOD FRIDAY 11.00am Friday 3rd April All are welcome. The Shrine of Our Lady of Revelation is a Marian Pilgrim Shrine\, it is not a parish Church. No service on Holy Thursday\, Easter Saturday.								\n				\n				\n				\n					EVERYMAN'S WAY OF THE CROSS
URL:https://virginofrevelationaustralia.com/event/anniversary-of-the-apparition-to-bruno-cornacchiola/
LOCATION:Bullsbrook Shrine\, 36 Chittering Rd\, Bullsbrook\, WA\, 6084\, Australia
CATEGORIES:Shrine Calendar
ATTACH;FMTTYPE=image/jpeg:https://virginofrevelationaustralia.com/wp-content/uploads/2024/06/Praying.jpeg
ORGANIZER;CN="SACRI Australia":MAILTO:email@example.com
END:VEVENT
END:VCALENDAR